Workbook

Sheet Jahresübersicht
A1: Blutdruck-Langzeitkurve - Jahresübersicht
A2: Diese Übersicht berechnet sich automatisch aus den zwölf Monatsblättern. Tragen Sie dort Ihre Werte ein.
A3: Name: | D3: Jahr:
A5: Monat | B5: Ø Systole | C5: Ø Diastole | D5: Ø Puls | E5: Einordnung (Monatsmittel)
A6: Januar | B6: =IFERROR(ROUND(AVERAGE('01 Januar'!B6:B36,'01 Januar'!E6:E36),0),"") | C6: =IFERROR(ROUND(AVERAGE('01 Januar'!C6:C36,'01 Januar'!F6:F36),0),"") | D6: =IFERROR(ROUND(AVERAGE('01 Januar'!D6:D36,'01 Januar'!G6:G36),0),"") | E6: =IF(OR(B6="",C6=""),"",IF(OR(B6>=180,C6>=110),"Hypertonie Grad 3",IF(OR(B6>=160,C6>=100),"Hypertonie Grad 2",IF(OR(B6>=140,C6>=90),"Hypertonie Grad 1",IF(OR(B6>=130,C6>=85),"Hoch-normal",IF(OR(B6>=120,C6>=80),"Normal",IF(AND(B6<105,C6<60),"Niedrig (hypoton)","Optimal")))))))
A7: Februar | B7: =IFERROR(ROUND(AVERAGE('02 Februar'!B6:B36,'02 Februar'!E6:E36),0),"") | C7: =IFERROR(ROUND(AVERAGE('02 Februar'!C6:C36,'02 Februar'!F6:F36),0),"") | D7: =IFERROR(ROUND(AVERAGE('02 Februar'!D6:D36,'02 Februar'!G6:G36),0),"") | E7: =IF(OR(B7="",C7=""),"",IF(OR(B7>=180,C7>=110),"Hypertonie Grad 3",IF(OR(B7>=160,C7>=100),"Hypertonie Grad 2",IF(OR(B7>=140,C7>=90),"Hypertonie Grad 1",IF(OR(B7>=130,C7>=85),"Hoch-normal",IF(OR(B7>=120,C7>=80),"Normal",IF(AND(B7<105,C7<60),"Niedrig (hypoton)","Optimal")))))))
A8: März | B8: =IFERROR(ROUND(AVERAGE('03 März'!B6:B36,'03 März'!E6:E36),0),"") | C8: =IFERROR(ROUND(AVERAGE('03 März'!C6:C36,'03 März'!F6:F36),0),"") | D8: =IFERROR(ROUND(AVERAGE('03 März'!D6:D36,'03 März'!G6:G36),0),"") | E8: =IF(OR(B8="",C8=""),"",IF(OR(B8>=180,C8>=110),"Hypertonie Grad 3",IF(OR(B8>=160,C8>=100),"Hypertonie Grad 2",IF(OR(B8>=140,C8>=90),"Hypertonie Grad 1",IF(OR(B8>=130,C8>=85),"Hoch-normal",IF(OR(B8>=120,C8>=80),"Normal",IF(AND(B8<105,C8<60),"Niedrig (hypoton)","Optimal")))))))
A9: April | B9: =IFERROR(ROUND(AVERAGE('04 April'!B6:B36,'04 April'!E6:E36),0),"") | C9: =IFERROR(ROUND(AVERAGE('04 April'!C6:C36,'04 April'!F6:F36),0),"") | D9: =IFERROR(ROUND(AVERAGE('04 April'!D6:D36,'04 April'!G6:G36),0),"") | E9: =IF(OR(B9="",C9=""),"",IF(OR(B9>=180,C9>=110),"Hypertonie Grad 3",IF(OR(B9>=160,C9>=100),"Hypertonie Grad 2",IF(OR(B9>=140,C9>=90),"Hypertonie Grad 1",IF(OR(B9>=130,C9>=85),"Hoch-normal",IF(OR(B9>=120,C9>=80),"Normal",IF(AND(B9<105,C9<60),"Niedrig (hypoton)","Optimal")))))))
A10: Mai | B10: =IFERROR(ROUND(AVERAGE('05 Mai'!B6:B36,'05 Mai'!E6:E36),0),"") | C10: =IFERROR(ROUND(AVERAGE('05 Mai'!C6:C36,'05 Mai'!F6:F36),0),"") | D10: =IFERROR(ROUND(AVERAGE('05 Mai'!D6:D36,'05 Mai'!G6:G36),0),"") | E10: =IF(OR(B10="",C10=""),"",IF(OR(B10>=180,C10>=110),"Hypertonie Grad 3",IF(OR(B10>=160,C10>=100),"Hypertonie Grad 2",IF(OR(B10>=140,C10>=90),"Hypertonie Grad 1",IF(OR(B10>=130,C10>=85),"Hoch-normal",IF(OR(B10>=120,C10>=80),"Normal",IF(AND(B10<105,C10<60),"Niedrig (hypoton)","Optimal")))))))
A11: Juni | B11: =IFERROR(ROUND(AVERAGE('06 Juni'!B6:B36,'06 Juni'!E6:E36),0),"") | C11: =IFERROR(ROUND(AVERAGE('06 Juni'!C6:C36,'06 Juni'!F6:F36),0),"") | D11: =IFERROR(ROUND(AVERAGE('06 Juni'!D6:D36,'06 Juni'!G6:G36),0),"") | E11: =IF(OR(B11="",C11=""),"",IF(OR(B11>=180,C11>=110),"Hypertonie Grad 3",IF(OR(B11>=160,C11>=100),"Hypertonie Grad 2",IF(OR(B11>=140,C11>=90),"Hypertonie Grad 1",IF(OR(B11>=130,C11>=85),"Hoch-normal",IF(OR(B11>=120,C11>=80),"Normal",IF(AND(B11<105,C11<60),"Niedrig (hypoton)","Optimal")))))))
A12: Juli | B12: =IFERROR(ROUND(AVERAGE('07 Juli'!B6:B36,'07 Juli'!E6:E36),0),"") | C12: =IFERROR(ROUND(AVERAGE('07 Juli'!C6:C36,'07 Juli'!F6:F36),0),"") | D12: =IFERROR(ROUND(AVERAGE('07 Juli'!D6:D36,'07 Juli'!G6:G36),0),"") | E12: =IF(OR(B12="",C12=""),"",IF(OR(B12>=180,C12>=110),"Hypertonie Grad 3",IF(OR(B12>=160,C12>=100),"Hypertonie Grad 2",IF(OR(B12>=140,C12>=90),"Hypertonie Grad 1",IF(OR(B12>=130,C12>=85),"Hoch-normal",IF(OR(B12>=120,C12>=80),"Normal",IF(AND(B12<105,C12<60),"Niedrig (hypoton)","Optimal")))))))
A13: August | B13: =IFERROR(ROUND(AVERAGE('08 August'!B6:B36,'08 August'!E6:E36),0),"") | C13: =IFERROR(ROUND(AVERAGE('08 August'!C6:C36,'08 August'!F6:F36),0),"") | D13: =IFERROR(ROUND(AVERAGE('08 August'!D6:D36,'08 August'!G6:G36),0),"") | E13: =IF(OR(B13="",C13=""),"",IF(OR(B13>=180,C13>=110),"Hypertonie Grad 3",IF(OR(B13>=160,C13>=100),"Hypertonie Grad 2",IF(OR(B13>=140,C13>=90),"Hypertonie Grad 1",IF(OR(B13>=130,C13>=85),"Hoch-normal",IF(OR(B13>=120,C13>=80),"Normal",IF(AND(B13<105,C13<60),"Niedrig (hypoton)","Optimal")))))))
A14: September | B14: =IFERROR(ROUND(AVERAGE('09 September'!B6:B36,'09 September'!E6:E36),0),"") | C14: =IFERROR(ROUND(AVERAGE('09 September'!C6:C36,'09 September'!F6:F36),0),"") | D14: =IFERROR(ROUND(AVERAGE('09 September'!D6:D36,'09 September'!G6:G36),0),"") | E14: =IF(OR(B14="",C14=""),"",IF(OR(B14>=180,C14>=110),"Hypertonie Grad 3",IF(OR(B14>=160,C14>=100),"Hypertonie Grad 2",IF(OR(B14>=140,C14>=90),"Hypertonie Grad 1",IF(OR(B14>=130,C14>=85),"Hoch-normal",IF(OR(B14>=120,C14>=80),"Normal",IF(AND(B14<105,C14<60),"Niedrig (hypoton)","Optimal")))))))
A15: Oktober | B15: =IFERROR(ROUND(AVERAGE('10 Oktober'!B6:B36,'10 Oktober'!E6:E36),0),"") | C15: =IFERROR(ROUND(AVERAGE('10 Oktober'!C6:C36,'10 Oktober'!F6:F36),0),"") | D15: =IFERROR(ROUND(AVERAGE('10 Oktober'!D6:D36,'10 Oktober'!G6:G36),0),"") | E15: =IF(OR(B15="",C15=""),"",IF(OR(B15>=180,C15>=110),"Hypertonie Grad 3",IF(OR(B15>=160,C15>=100),"Hypertonie Grad 2",IF(OR(B15>=140,C15>=90),"Hypertonie Grad 1",IF(OR(B15>=130,C15>=85),"Hoch-normal",IF(OR(B15>=120,C15>=80),"Normal",IF(AND(B15<105,C15<60),"Niedrig (hypoton)","Optimal")))))))
A16: November | B16: =IFERROR(ROUND(AVERAGE('11 November'!B6:B36,'11 November'!E6:E36),0),"") | C16: =IFERROR(ROUND(AVERAGE('11 November'!C6:C36,'11 November'!F6:F36),0),"") | D16: =IFERROR(ROUND(AVERAGE('11 November'!D6:D36,'11 November'!G6:G36),0),"") | E16: =IF(OR(B16="",C16=""),"",IF(OR(B16>=180,C16>=110),"Hypertonie Grad 3",IF(OR(B16>=160,C16>=100),"Hypertonie Grad 2",IF(OR(B16>=140,C16>=90),"Hypertonie Grad 1",IF(OR(B16>=130,C16>=85),"Hoch-normal",IF(OR(B16>=120,C16>=80),"Normal",IF(AND(B16<105,C16<60),"Niedrig (hypoton)","Optimal")))))))
A17: Dezember | B17: =IFERROR(ROUND(AVERAGE('12 Dezember'!B6:B36,'12 Dezember'!E6:E36),0),"") | C17: =IFERROR(ROUND(AVERAGE('12 Dezember'!C6:C36,'12 Dezember'!F6:F36),0),"") | D17: =IFERROR(ROUND(AVERAGE('12 Dezember'!D6:D36,'12 Dezember'!G6:G36),0),"") | E17: =IF(OR(B17="",C17=""),"",IF(OR(B17>=180,C17>=110),"Hypertonie Grad 3",IF(OR(B17>=160,C17>=100),"Hypertonie Grad 2",IF(OR(B17>=140,C17>=90),"Hypertonie Grad 1",IF(OR(B17>=130,C17>=85),"Hoch-normal",IF(OR(B17>=120,C17>=80),"Normal",IF(AND(B17<105,C17<60),"Niedrig (hypoton)","Optimal")))))))
A18: Jahresmittel | B18: =IFERROR(ROUND(AVERAGE(B6:B17),0),"") | C18: =IFERROR(ROUND(AVERAGE(C6:C17),0),"") | D18: =IFERROR(ROUND(AVERAGE(D6:D17),0),"") | E18: =IF(OR(B18="",C18=""),"",IF(OR(B18>=180,C18>=110),"Hypertonie Grad 3",IF(OR(B18>=160,C18>=100),"Hypertonie Grad 2",IF(OR(B18>=140,C18>=90),"Hypertonie Grad 1",IF(OR(B18>=130,C18>=85),"Hoch-normal",IF(OR(B18>=120,C18>=80),"Normal",IF(AND(B18<105,C18<60),"Niedrig (hypoton)","Optimal")))))))
A43: Legende: Einordnung der Blutdruckwerte
A44: Kategorie | C44: Systole (mmHg) | D44: Diastole (mmHg)
A45: Optimal | C45: unter 120 | D45: und unter 80
A46: Normal | C46: 120 bis 129 | D46: oder 80 bis 84
A47: Hoch-normal | C47: 130 bis 139 | D47: oder 85 bis 89
A48: Hypertonie Grad 1 | C48: 140 bis 159 | D48: oder 90 bis 99
A49: Hypertonie Grad 2 | C49: 160 bis 179 | D49: oder 100 bis 109
A50: Hypertonie Grad 3 | C50: 180 und höher | D50: oder 110 und höher
A51: Niedrig (hypoton) | C51: unter 105 | D51: und unter 60
A52: Es zählt immer der höher eingestufte der beiden Werte.
A53: Pulsdruck = Systole minus Diastole. Üblich sind Werte von 30 bis 50 mmHg.

Sheet 01 Januar
A1: Blutdruck-Langzeitkurve - Januar
A2: Jahr: | D2: Je Tag genügt ein Wert - zwei Werte ergeben ein besseres Tagesmittel.
A4: Tag | B4: Morgens | E4: Abends | H4: Tagesmittel | J4: Bemerkung
B5: Sys | C5: Dia | D5: Puls | E5: Sys | F5: Dia | G5: Puls | H5: Sys | I5: Dia
A6: 1 | H6: =IFERROR(ROUND(AVERAGE(B6,E6),0),"") | I6: =IFERROR(ROUND(AVERAGE(C6,F6),0),"")
A7: 2 | H7: =IFERROR(ROUND(AVERAGE(B7,E7),0),"") | I7: =IFERROR(ROUND(AVERAGE(C7,F7),0),"")
A8: 3 | H8: =IFERROR(ROUND(AVERAGE(B8,E8),0),"") | I8: =IFERROR(ROUND(AVERAGE(C8,F8),0),"")
A9: 4 | H9: =IFERROR(ROUND(AVERAGE(B9,E9),0),"") | I9: =IFERROR(ROUND(AVERAGE(C9,F9),0),"")
A10: 5 | H10: =IFERROR(ROUND(AVERAGE(B10,E10),0),"") | I10: =IFERROR(ROUND(AVERAGE(C10,F10),0),"")
A11: 6 | H11: =IFERROR(ROUND(AVERAGE(B11,E11),0),"") | I11: =IFERROR(ROUND(AVERAGE(C11,F11),0),"")
A12: 7 | H12: =IFERROR(ROUND(AVERAGE(B12,E12),0),"") | I12: =IFERROR(ROUND(AVERAGE(C12,F12),0),"")
A13: 8 | H13: =IFERROR(ROUND(AVERAGE(B13,E13),0),"") | I13: =IFERROR(ROUND(AVERAGE(C13,F13),0),"")
A14: 9 | H14: =IFERROR(ROUND(AVERAGE(B14,E14),0),"") | I14: =IFERROR(ROUND(AVERAGE(C14,F14),0),"")
A15: 10 | H15: =IFERROR(ROUND(AVERAGE(B15,E15),0),"") | I15: =IFERROR(ROUND(AVERAGE(C15,F15),0),"")
A16: 11 | H16: =IFERROR(ROUND(AVERAGE(B16,E16),0),"") | I16: =IFERROR(ROUND(AVERAGE(C16,F16),0),"")
A17: 12 | H17: =IFERROR(ROUND(AVERAGE(B17,E17),0),"") | I17: =IFERROR(ROUND(AVERAGE(C17,F17),0),"")
... A36: 31 | H36: =IFERROR(ROUND(AVERAGE(B36,E36),0),"") | I36: =IFERROR(ROUND(AVERAGE(C36,F36),0),"")
A37: Mittel | B37: =IFERROR(ROUND(AVERAGE(B6:B36),0),"") | C37: =IFERROR(ROUND(AVERAGE(C6:C36),0),"") | D37: =IFERROR(ROUND(AVERAGE(D6:D36),0),"") | E37: =IFERROR(ROUND(AVERAGE(E6:E36),0),"") | F37: =IFERROR(ROUND(AVERAGE(F6:F36),0),"") | G37: =IFERROR(ROUND(AVERAGE(G6:G36),0),"") | H37: =IFERROR(ROUND(AVERAGE(B6:B36,E6:E36),0),"") | I37: =IFERROR(ROUND(AVERAGE(C6:C36,F6:F36),0),"")

Sheet 02 Februar
A1: Blutdruck-Langzeitkurve - Februar
A2: Jahr: | D2: Je Tag genügt ein Wert - zwei Werte ergeben ein besseres Tagesmittel.
A4: Tag | B4: Morgens | E4: Abends | H4: Tagesmittel | J4: Bemerkung
B5: Sys | C5: Dia | D5: Puls | E5: Sys | F5: Dia | G5: Puls | H5: Sys | I5: Dia
A6: 1 | H6: =IFERROR(ROUND(AVERAGE(B6,E6),0),"") | I6: =IFERROR(ROUND(AVERAGE(C6,F6),0),"")
A7: 2 | H7: =IFERROR(ROUND(AVERAGE(B7,E7),0),"") | I7: =IFERROR(ROUND(AVERAGE(C7,F7),0),"")
A8: 3 | H8: =IFERROR(ROUND(AVERAGE(B8,E8),0),"") | I8: =IFERROR(ROUND(AVERAGE(C8,F8),0),"")
A9: 4 | H9: =IFERROR(ROUND(AVERAGE(B9,E9),0),"") | I9: =IFERROR(ROUND(AVERAGE(C9,F9),0),"")
A10: 5 | H10: =IFERROR(ROUND(AVERAGE(B10,E10),0),"") | I10: =IFERROR(ROUND(AVERAGE(C10,F10),0),"")
A11: 6 | H11: =IFERROR(ROUND(AVERAGE(B11,E11),0),"") | I11: =IFERROR(ROUND(AVERAGE(C11,F11),0),"")
A12: 7 | H12: =IFERROR(ROUND(AVERAGE(B12,E12),0),"") | I12: =IFERROR(ROUND(AVERAGE(C12,F12),0),"")
A13: 8 | H13: =IFERROR(ROUND(AVERAGE(B13,E13),0),"") | I13: =IFERROR(ROUND(AVERAGE(C13,F13),0),"")
A14: 9 | H14: =IFERROR(ROUND(AVERAGE(B14,E14),0),"") | I14: =IFERROR(ROUND(AVERAGE(C14,F14),0),"")
A15: 10 | H15: =IFERROR(ROUND(AVERAGE(B15,E15),0),"") | I15: =IFERROR(ROUND(AVERAGE(C15,F15),0),"")
A16: 11 | H16: =IFERROR(ROUND(AVERAGE(B16,E16),0),"") | I16: =IFERROR(ROUND(AVERAGE(C16,F16),0),"")
A17: 12 | H17: =IFERROR(ROUND(AVERAGE(B17,E17),0),"") | I17: =IFERROR(ROUND(AVERAGE(C17,F17),0),"")
... A36: 31 | H36: =IFERROR(ROUND(AVERAGE(B36,E36),0),"") | I36: =IFERROR(ROUND(AVERAGE(C36,F36),0),"")
A37: Mittel | B37: =IFERROR(ROUND(AVERAGE(B6:B36),0),"") | C37: =IFERROR(ROUND(AVERAGE(C6:C36),0),"") | D37: =IFERROR(ROUND(AVERAGE(D6:D36),0),"") | E37: =IFERROR(ROUND(AVERAGE(E6:E36),0),"") | F37: =IFERROR(ROUND(AVERAGE(F6:F36),0),"") | G37: =IFERROR(ROUND(AVERAGE(G6:G36),0),"") | H37: =IFERROR(ROUND(AVERAGE(B6:B36,E6:E36),0),"") | I37: =IFERROR(ROUND(AVERAGE(C6:C36,F6:F36),0),"")

Sheet 03 März
A1: Blutdruck-Langzeitkurve - März
A2: Jahr: | D2: Je Tag genügt ein Wert - zwei Werte ergeben ein besseres Tagesmittel.
A4: Tag | B4: Morgens | E4: Abends | H4: Tagesmittel | J4: Bemerkung
B5: Sys | C5: Dia | D5: Puls | E5: Sys | F5: Dia | G5: Puls | H5: Sys | I5: Dia
A6: 1 | H6: =IFERROR(ROUND(AVERAGE(B6,E6),0),"") | I6: =IFERROR(ROUND(AVERAGE(C6,F6),0),"")
A7: 2 | H7: =IFERROR(ROUND(AVERAGE(B7,E7),0),"") | I7: =IFERROR(ROUND(AVERAGE(C7,F7),0),"")
A8: 3 | H8: =IFERROR(ROUND(AVERAGE(B8,E8),0),"") | I8: =IFERROR(ROUND(AVERAGE(C8,F8),0),"")
A9: 4 | H9: =IFERROR(ROUND(AVERAGE(B9,E9),0),"") | I9: =IFERROR(ROUND(AVERAGE(C9,F9),0),"")
A10: 5 | H10: =IFERROR(ROUND(AVERAGE(B10,E10),0),"") | I10: =IFERROR(ROUND(AVERAGE(C10,F10),0),"")
A11: 6 | H11: =IFERROR(ROUND(AVERAGE(B11,E11),0),"") | I11: =IFERROR(ROUND(AVERAGE(C11,F11),0),"")
A12: 7 | H12: =IFERROR(ROUND(AVERAGE(B12,E12),0),"") | I12: =IFERROR(ROUND(AVERAGE(C12,F12),0),"")
A13: 8 | H13: =IFERROR(ROUND(AVERAGE(B13,E13),0),"") | I13: =IFERROR(ROUND(AVERAGE(C13,F13),0),"")
A14: 9 | H14: =IFERROR(ROUND(AVERAGE(B14,E14),0),"") | I14: =IFERROR(ROUND(AVERAGE(C14,F14),0),"")
A15: 10 | H15: =IFERROR(ROUND(AVERAGE(B15,E15),0),"") | I15: =IFERROR(ROUND(AVERAGE(C15,F15),0),"")
A16: 11 | H16: =IFERROR(ROUND(AVERAGE(B16,E16),0),"") | I16: =IFERROR(ROUND(AVERAGE(C16,F16),0),"")
A17: 12 | H17: =IFERROR(ROUND(AVERAGE(B17,E17),0),"") | I17: =IFERROR(ROUND(AVERAGE(C17,F17),0),"")
... A36: 31 | H36: =IFERROR(ROUND(AVERAGE(B36,E36),0),"") | I36: =IFERROR(ROUND(AVERAGE(C36,F36),0),"")
A37: Mittel | B37: =IFERROR(ROUND(AVERAGE(B6:B36),0),"") | C37: =IFERROR(ROUND(AVERAGE(C6:C36),0),"") | D37: =IFERROR(ROUND(AVERAGE(D6:D36),0),"") | E37: =IFERROR(ROUND(AVERAGE(E6:E36),0),"") | F37: =IFERROR(ROUND(AVERAGE(F6:F36),0),"") | G37: =IFERROR(ROUND(AVERAGE(G6:G36),0),"") | H37: =IFERROR(ROUND(AVERAGE(B6:B36,E6:E36),0),"") | I37: =IFERROR(ROUND(AVERAGE(C6:C36,F6:F36),0),"")

Sheet 04 April
A1: Blutdruck-Langzeitkurve - April
A2: Jahr: | D2: Je Tag genügt ein Wert - zwei Werte ergeben ein besseres Tagesmittel.
A4: Tag | B4: Morgens | E4: Abends | H4: Tagesmittel | J4: Bemerkung
B5: Sys | C5: Dia | D5: Puls | E5: Sys | F5: Dia | G5: Puls | H5: Sys | I5: Dia
A6: 1 | H6: =IFERROR(ROUND(AVERAGE(B6,E6),0),"") | I6: =IFERROR(ROUND(AVERAGE(C6,F6),0),"")
A7: 2 | H7: =IFERROR(ROUND(AVERAGE(B7,E7),0),"") | I7: =IFERROR(ROUND(AVERAGE(C7,F7),0),"")
A8: 3 | H8: =IFERROR(ROUND(AVERAGE(B8,E8),0),"") | I8: =IFERROR(ROUND(AVERAGE(C8,F8),0),"")
A9: 4 | H9: =IFERROR(ROUND(AVERAGE(B9,E9),0),"") | I9: =IFERROR(ROUND(AVERAGE(C9,F9),0),"")
A10: 5 | H10: =IFERROR(ROUND(AVERAGE(B10,E10),0),"") | I10: =IFERROR(ROUND(AVERAGE(C10,F10),0),"")
A11: 6 | H11: =IFERROR(ROUND(AVERAGE(B11,E11),0),"") | I11: =IFERROR(ROUND(AVERAGE(C11,F11),0),"")
A12: 7 | H12: =IFERROR(ROUND(AVERAGE(B12,E12),0),"") | I12: =IFERROR(ROUND(AVERAGE(C12,F12),0),"")
A13: 8 | H13: =IFERROR(ROUND(AVERAGE(B13,E13),0),"") | I13: =IFERROR(ROUND(AVERAGE(C13,F13),0),"")
A14: 9 | H14: =IFERROR(ROUND(AVERAGE(B14,E14),0),"") | I14: =IFERROR(ROUND(AVERAGE(C14,F14),0),"")
A15: 10 | H15: =IFERROR(ROUND(AVERAGE(B15,E15),0),"") | I15: =IFERROR(ROUND(AVERAGE(C15,F15),0),"")
A16: 11 | H16: =IFERROR(ROUND(AVERAGE(B16,E16),0),"") | I16: =IFERROR(ROUND(AVERAGE(C16,F16),0),"")
A17: 12 | H17: =IFERROR(ROUND(AVERAGE(B17,E17),0),"") | I17: =IFERROR(ROUND(AVERAGE(C17,F17),0),"")
... A36: 31 | H36: =IFERROR(ROUND(AVERAGE(B36,E36),0),"") | I36: =IFERROR(ROUND(AVERAGE(C36,F36),0),"")
A37: Mittel | B37: =IFERROR(ROUND(AVERAGE(B6:B36),0),"") | C37: =IFERROR(ROUND(AVERAGE(C6:C36),0),"") | D37: =IFERROR(ROUND(AVERAGE(D6:D36),0),"") | E37: =IFERROR(ROUND(AVERAGE(E6:E36),0),"") | F37: =IFERROR(ROUND(AVERAGE(F6:F36),0),"") | G37: =IFERROR(ROUND(AVERAGE(G6:G36),0),"") | H37: =IFERROR(ROUND(AVERAGE(B6:B36,E6:E36),0),"") | I37: =IFERROR(ROUND(AVERAGE(C6:C36,F6:F36),0),"")

Sheet 05 Mai
A1: Blutdruck-Langzeitkurve - Mai
A2: Jahr: | D2: Je Tag genügt ein Wert - zwei Werte ergeben ein besseres Tagesmittel.
A4: Tag | B4: Morgens | E4: Abends | H4: Tagesmittel | J4: Bemerkung
B5: Sys | C5: Dia | D5: Puls | E5: Sys | F5: Dia | G5: Puls | H5: Sys | I5: Dia
A6: 1 | H6: =IFERROR(ROUND(AVERAGE(B6,E6),0),"") | I6: =IFERROR(ROUND(AVERAGE(C6,F6),0),"")
A7: 2 | H7: =IFERROR(ROUND(AVERAGE(B7,E7),0),"") | I7: =IFERROR(ROUND(AVERAGE(C7,F7),0),"")
A8: 3 | H8: =IFERROR(ROUND(AVERAGE(B8,E8),0),"") | I8: =IFERROR(ROUND(AVERAGE(C8,F8),0),"")
A9: 4 | H9: =IFERROR(ROUND(AVERAGE(B9,E9),0),"") | I9: =IFERROR(ROUND(AVERAGE(C9,F9),0),"")
A10: 5 | H10: =IFERROR(ROUND(AVERAGE(B10,E10),0),"") | I10: =IFERROR(ROUND(AVERAGE(C10,F10),0),"")
A11: 6 | H11: =IFERROR(ROUND(AVERAGE(B11,E11),0),"") | I11: =IFERROR(ROUND(AVERAGE(C11,F11),0),"")
A12: 7 | H12: =IFERROR(ROUND(AVERAGE(B12,E12),0),"") | I12: =IFERROR(ROUND(AVERAGE(C12,F12),0),"")
A13: 8 | H13: =IFERROR(ROUND(AVERAGE(B13,E13),0),"") | I13: =IFERROR(ROUND(AVERAGE(C13,F13),0),"")
A14: 9 | H14: =IFERROR(ROUND(AVERAGE(B14,E14),0),"") | I14: =IFERROR(ROUND(AVERAGE(C14,F14),0),"")
A15: 10 | H15: =IFERROR(ROUND(AVERAGE(B15,E15),0),"") | I15: =IFERROR(ROUND(AVERAGE(C15,F15),0),"")
A16: 11 | H16: =IFERROR(ROUND(AVERAGE(B16,E16),0),"") | I16: =IFERROR(ROUND(AVERAGE(C16,F16),0),"")
A17: 12 | H17: =IFERROR(ROUND(AVERAGE(B17,E17),0),"") | I17: =IFERROR(ROUND(AVERAGE(C17,F17),0),"")
... A36: 31 | H36: =IFERROR(ROUND(AVERAGE(B36,E36),0),"") | I36: =IFERROR(ROUND(AVERAGE(C36,F36),0),"")
A37: Mittel | B37: =IFERROR(ROUND(AVERAGE(B6:B36),0),"") | C37: =IFERROR(ROUND(AVERAGE(C6:C36),0),"") | D37: =IFERROR(ROUND(AVERAGE(D6:D36),0),"") | E37: =IFERROR(ROUND(AVERAGE(E6:E36),0),"") | F37: =IFERROR(ROUND(AVERAGE(F6:F36),0),"") | G37: =IFERROR(ROUND(AVERAGE(G6:G36),0),"") | H37: =IFERROR(ROUND(AVERAGE(B6:B36,E6:E36),0),"") | I37: =IFERROR(ROUND(AVERAGE(C6:C36,F6:F36),0),"")

Sheet 06 Juni
A1: Blutdruck-Langzeitkurve - Juni
A2: Jahr: | D2: Je Tag genügt ein Wert - zwei Werte ergeben ein besseres Tagesmittel.
A4: Tag | B4: Morgens | E4: Abends | H4: Tagesmittel | J4: Bemerkung
B5: Sys | C5: Dia | D5: Puls | E5: Sys | F5: Dia | G5: Puls | H5: Sys | I5: Dia
A6: 1 | H6: =IFERROR(ROUND(AVERAGE(B6,E6),0),"") | I6: =IFERROR(ROUND(AVERAGE(C6,F6),0),"")
A7: 2 | H7: =IFERROR(ROUND(AVERAGE(B7,E7),0),"") | I7: =IFERROR(ROUND(AVERAGE(C7,F7),0),"")
A8: 3 | H8: =IFERROR(ROUND(AVERAGE(B8,E8),0),"") | I8: =IFERROR(ROUND(AVERAGE(C8,F8),0),"")
A9: 4 | H9: =IFERROR(ROUND(AVERAGE(B9,E9),0),"") | I9: =IFERROR(ROUND(AVERAGE(C9,F9),0),"")
A10: 5 | H10: =IFERROR(ROUND(AVERAGE(B10,E10),0),"") | I10: =IFERROR(ROUND(AVERAGE(C10,F10),0),"")
A11: 6 | H11: =IFERROR(ROUND(AVERAGE(B11,E11),0),"") | I11: =IFERROR(ROUND(AVERAGE(C11,F11),0),"")
A12: 7 | H12: =IFERROR(ROUND(AVERAGE(B12,E12),0),"") | I12: =IFERROR(ROUND(AVERAGE(C12,F12),0),"")
A13: 8 | H13: =IFERROR(ROUND(AVERAGE(B13,E13),0),"") | I13: =IFERROR(ROUND(AVERAGE(C13,F13),0),"")
A14: 9 | H14: =IFERROR(ROUND(AVERAGE(B14,E14),0),"") | I14: =IFERROR(ROUND(AVERAGE(C14,F14),0),"")
A15: 10 | H15: =IFERROR(ROUND(AVERAGE(B15,E15),0),"") | I15: =IFERROR(ROUND(AVERAGE(C15,F15),0),"")
A16: 11 | H16: =IFERROR(ROUND(AVERAGE(B16,E16),0),"") | I16: =IFERROR(ROUND(AVERAGE(C16,F16),0),"")
A17: 12 | H17: =IFERROR(ROUND(AVERAGE(B17,E17),0),"") | I17: =IFERROR(ROUND(AVERAGE(C17,F17),0),"")
... A36: 31 | H36: =IFERROR(ROUND(AVERAGE(B36,E36),0),"") | I36: =IFERROR(ROUND(AVERAGE(C36,F36),0),"")
A37: Mittel | B37: =IFERROR(ROUND(AVERAGE(B6:B36),0),"") | C37: =IFERROR(ROUND(AVERAGE(C6:C36),0),"") | D37: =IFERROR(ROUND(AVERAGE(D6:D36),0),"") | E37: =IFERROR(ROUND(AVERAGE(E6:E36),0),"") | F37: =IFERROR(ROUND(AVERAGE(F6:F36),0),"") | G37: =IFERROR(ROUND(AVERAGE(G6:G36),0),"") | H37: =IFERROR(ROUND(AVERAGE(B6:B36,E6:E36),0),"") | I37: =IFERROR(ROUND(AVERAGE(C6:C36,F6:F36),0),"")

Sheet 07 Juli
A1: Blutdruck-Langzeitkurve - Juli
A2: Jahr: | D2: Je Tag genügt ein Wert - zwei Werte ergeben ein besseres Tagesmittel.
A4: Tag | B4: Morgens | E4: Abends | H4: Tagesmittel | J4: Bemerkung
B5: Sys | C5: Dia | D5: Puls | E5: Sys | F5: Dia | G5: Puls | H5: Sys | I5: Dia
A6: 1 | H6: =IFERROR(ROUND(AVERAGE(B6,E6),0),"") | I6: =IFERROR(ROUND(AVERAGE(C6,F6),0),"")
A7: 2 | H7: =IFERROR(ROUND(AVERAGE(B7,E7),0),"") | I7: =IFERROR(ROUND(AVERAGE(C7,F7),0),"")
A8: 3 | H8: =IFERROR(ROUND(AVERAGE(B8,E8),0),"") | I8: =IFERROR(ROUND(AVERAGE(C8,F8),0),"")
A9: 4 | H9: =IFERROR(ROUND(AVERAGE(B9,E9),0),"") | I9: =IFERROR(ROUND(AVERAGE(C9,F9),0),"")
A10: 5 | H10: =IFERROR(ROUND(AVERAGE(B10,E10),0),"") | I10: =IFERROR(ROUND(AVERAGE(C10,F10),0),"")
A11: 6 | H11: =IFERROR(ROUND(AVERAGE(B11,E11),0),"") | I11: =IFERROR(ROUND(AVERAGE(C11,F11),0),"")
A12: 7 | H12: =IFERROR(ROUND(AVERAGE(B12,E12),0),"") | I12: =IFERROR(ROUND(AVERAGE(C12,F12),0),"")
A13: 8 | H13: =IFERROR(ROUND(AVERAGE(B13,E13),0),"") | I13: =IFERROR(ROUND(AVERAGE(C13,F13),0),"")
A14: 9 | H14: =IFERROR(ROUND(AVERAGE(B14,E14),0),"") | I14: =IFERROR(ROUND(AVERAGE(C14,F14),0),"")
A15: 10 | H15: =IFERROR(ROUND(AVERAGE(B15,E15),0),"") | I15: =IFERROR(ROUND(AVERAGE(C15,F15),0),"")
A16: 11 | H16: =IFERROR(ROUND(AVERAGE(B16,E16),0),"") | I16: =IFERROR(ROUND(AVERAGE(C16,F16),0),"")
A17: 12 | H17: =IFERROR(ROUND(AVERAGE(B17,E17),0),"") | I17: =IFERROR(ROUND(AVERAGE(C17,F17),0),"")
... A36: 31 | H36: =IFERROR(ROUND(AVERAGE(B36,E36),0),"") | I36: =IFERROR(ROUND(AVERAGE(C36,F36),0),"")
A37: Mittel | B37: =IFERROR(ROUND(AVERAGE(B6:B36),0),"") | C37: =IFERROR(ROUND(AVERAGE(C6:C36),0),"") | D37: =IFERROR(ROUND(AVERAGE(D6:D36),0),"") | E37: =IFERROR(ROUND(AVERAGE(E6:E36),0),"") | F37: =IFERROR(ROUND(AVERAGE(F6:F36),0),"") | G37: =IFERROR(ROUND(AVERAGE(G6:G36),0),"") | H37: =IFERROR(ROUND(AVERAGE(B6:B36,E6:E36),0),"") | I37: =IFERROR(ROUND(AVERAGE(C6:C36,F6:F36),0),"")

Sheet 08 August
A1: Blutdruck-Langzeitkurve - August
A2: Jahr: | D2: Je Tag genügt ein Wert - zwei Werte ergeben ein besseres Tagesmittel.
A4: Tag | B4: Morgens | E4: Abends | H4: Tagesmittel | J4: Bemerkung
B5: Sys | C5: Dia | D5: Puls | E5: Sys | F5: Dia | G5: Puls | H5: Sys | I5: Dia
A6: 1 | H6: =IFERROR(ROUND(AVERAGE(B6,E6),0),"") | I6: =IFERROR(ROUND(AVERAGE(C6,F6),0),"")
A7: 2 | H7: =IFERROR(ROUND(AVERAGE(B7,E7),0),"") | I7: =IFERROR(ROUND(AVERAGE(C7,F7),0),"")
A8: 3 | H8: =IFERROR(ROUND(AVERAGE(B8,E8),0),"") | I8: =IFERROR(ROUND(AVERAGE(C8,F8),0),"")
A9: 4 | H9: =IFERROR(ROUND(AVERAGE(B9,E9),0),"") | I9: =IFERROR(ROUND(AVERAGE(C9,F9),0),"")
A10: 5 | H10: =IFERROR(ROUND(AVERAGE(B10,E10),0),"") | I10: =IFERROR(ROUND(AVERAGE(C10,F10),0),"")
A11: 6 | H11: =IFERROR(ROUND(AVERAGE(B11,E11),0),"") | I11: =IFERROR(ROUND(AVERAGE(C11,F11),0),"")
A12: 7 | H12: =IFERROR(ROUND(AVERAGE(B12,E12),0),"") | I12: =IFERROR(ROUND(AVERAGE(C12,F12),0),"")
A13: 8 | H13: =IFERROR(ROUND(AVERAGE(B13,E13),0),"") | I13: =IFERROR(ROUND(AVERAGE(C13,F13),0),"")
A14: 9 | H14: =IFERROR(ROUND(AVERAGE(B14,E14),0),"") | I14: =IFERROR(ROUND(AVERAGE(C14,F14),0),"")
A15: 10 | H15: =IFERROR(ROUND(AVERAGE(B15,E15),0),"") | I15: =IFERROR(ROUND(AVERAGE(C15,F15),0),"")
A16: 11 | H16: =IFERROR(ROUND(AVERAGE(B16,E16),0),"") | I16: =IFERROR(ROUND(AVERAGE(C16,F16),0),"")
A17: 12 | H17: =IFERROR(ROUND(AVERAGE(B17,E17),0),"") | I17: =IFERROR(ROUND(AVERAGE(C17,F17),0),"")
... A36: 31 | H36: =IFERROR(ROUND(AVERAGE(B36,E36),0),"") | I36: =IFERROR(ROUND(AVERAGE(C36,F36),0),"")
A37: Mittel | B37: =IFERROR(ROUND(AVERAGE(B6:B36),0),"") | C37: =IFERROR(ROUND(AVERAGE(C6:C36),0),"") | D37: =IFERROR(ROUND(AVERAGE(D6:D36),0),"") | E37: =IFERROR(ROUND(AVERAGE(E6:E36),0),"") | F37: =IFERROR(ROUND(AVERAGE(F6:F36),0),"") | G37: =IFERROR(ROUND(AVERAGE(G6:G36),0),"") | H37: =IFERROR(ROUND(AVERAGE(B6:B36,E6:E36),0),"") | I37: =IFERROR(ROUND(AVERAGE(C6:C36,F6:F36),0),"")

Sheet 09 September
A1: Blutdruck-Langzeitkurve - September
A2: Jahr: | D2: Je Tag genügt ein Wert - zwei Werte ergeben ein besseres Tagesmittel.
A4: Tag | B4: Morgens | E4: Abends | H4: Tagesmittel | J4: Bemerkung
B5: Sys | C5: Dia | D5: Puls | E5: Sys | F5: Dia | G5: Puls | H5: Sys | I5: Dia
A6: 1 | H6: =IFERROR(ROUND(AVERAGE(B6,E6),0),"") | I6: =IFERROR(ROUND(AVERAGE(C6,F6),0),"")
A7: 2 | H7: =IFERROR(ROUND(AVERAGE(B7,E7),0),"") | I7: =IFERROR(ROUND(AVERAGE(C7,F7),0),"")
A8: 3 | H8: =IFERROR(ROUND(AVERAGE(B8,E8),0),"") | I8: =IFERROR(ROUND(AVERAGE(C8,F8),0),"")
A9: 4 | H9: =IFERROR(ROUND(AVERAGE(B9,E9),0),"") | I9: =IFERROR(ROUND(AVERAGE(C9,F9),0),"")
A10: 5 | H10: =IFERROR(ROUND(AVERAGE(B10,E10),0),"") | I10: =IFERROR(ROUND(AVERAGE(C10,F10),0),"")
A11: 6 | H11: =IFERROR(ROUND(AVERAGE(B11,E11),0),"") | I11: =IFERROR(ROUND(AVERAGE(C11,F11),0),"")
A12: 7 | H12: =IFERROR(ROUND(AVERAGE(B12,E12),0),"") | I12: =IFERROR(ROUND(AVERAGE(C12,F12),0),"")
A13: 8 | H13: =IFERROR(ROUND(AVERAGE(B13,E13),0),"") | I13: =IFERROR(ROUND(AVERAGE(C13,F13),0),"")
A14: 9 | H14: =IFERROR(ROUND(AVERAGE(B14,E14),0),"") | I14: =IFERROR(ROUND(AVERAGE(C14,F14),0),"")
A15: 10 | H15: =IFERROR(ROUND(AVERAGE(B15,E15),0),"") | I15: =IFERROR(ROUND(AVERAGE(C15,F15),0),"")
A16: 11 | H16: =IFERROR(ROUND(AVERAGE(B16,E16),0),"") | I16: =IFERROR(ROUND(AVERAGE(C16,F16),0),"")
A17: 12 | H17: =IFERROR(ROUND(AVERAGE(B17,E17),0),"") | I17: =IFERROR(ROUND(AVERAGE(C17,F17),0),"")
... A36: 31 | H36: =IFERROR(ROUND(AVERAGE(B36,E36),0),"") | I36: =IFERROR(ROUND(AVERAGE(C36,F36),0),"")
A37: Mittel | B37: =IFERROR(ROUND(AVERAGE(B6:B36),0),"") | C37: =IFERROR(ROUND(AVERAGE(C6:C36),0),"") | D37: =IFERROR(ROUND(AVERAGE(D6:D36),0),"") | E37: =IFERROR(ROUND(AVERAGE(E6:E36),0),"") | F37: =IFERROR(ROUND(AVERAGE(F6:F36),0),"") | G37: =IFERROR(ROUND(AVERAGE(G6:G36),0),"") | H37: =IFERROR(ROUND(AVERAGE(B6:B36,E6:E36),0),"") | I37: =IFERROR(ROUND(AVERAGE(C6:C36,F6:F36),0),"")

Sheet 10 Oktober
A1: Blutdruck-Langzeitkurve - Oktober
A2: Jahr: | D2: Je Tag genügt ein Wert - zwei Werte ergeben ein besseres Tagesmittel.
A4: Tag | B4: Morgens | E4: Abends | H4: Tagesmittel | J4: Bemerkung
B5: Sys | C5: Dia | D5: Puls | E5: Sys | F5: Dia | G5: Puls | H5: Sys | I5: Dia
A6: 1 | H6: =IFERROR(ROUND(AVERAGE(B6,E6),0),"") | I6: =IFERROR(ROUND(AVERAGE(C6,F6),0),"")
A7: 2 | H7: =IFERROR(ROUND(AVERAGE(B7,E7),0),"") | I7: =IFERROR(ROUND(AVERAGE(C7,F7),0),"")
A8: 3 | H8: =IFERROR(ROUND(AVERAGE(B8,E8),0),"") | I8: =IFERROR(ROUND(AVERAGE(C8,F8),0),"")
A9: 4 | H9: =IFERROR(ROUND(AVERAGE(B9,E9),0),"") | I9: =IFERROR(ROUND(AVERAGE(C9,F9),0),"")
A10: 5 | H10: =IFERROR(ROUND(AVERAGE(B10,E10),0),"") | I10: =IFERROR(ROUND(AVERAGE(C10,F10),0),"")
A11: 6 | H11: =IFERROR(ROUND(AVERAGE(B11,E11),0),"") | I11: =IFERROR(ROUND(AVERAGE(C11,F11),0),"")
A12: 7 | H12: =IFERROR(ROUND(AVERAGE(B12,E12),0),"") | I12: =IFERROR(ROUND(AVERAGE(C12,F12),0),"")
A13: 8 | H13: =IFERROR(ROUND(AVERAGE(B13,E13),0),"") | I13: =IFERROR(ROUND(AVERAGE(C13,F13),0),"")
A14: 9 | H14: =IFERROR(ROUND(AVERAGE(B14,E14),0),"") | I14: =IFERROR(ROUND(AVERAGE(C14,F14),0),"")
A15: 10 | H15: =IFERROR(ROUND(AVERAGE(B15,E15),0),"") | I15: =IFERROR(ROUND(AVERAGE(C15,F15),0),"")
A16: 11 | H16: =IFERROR(ROUND(AVERAGE(B16,E16),0),"") | I16: =IFERROR(ROUND(AVERAGE(C16,F16),0),"")
A17: 12 | H17: =IFERROR(ROUND(AVERAGE(B17,E17),0),"") | I17: =IFERROR(ROUND(AVERAGE(C17,F17),0),"")
... A36: 31 | H36: =IFERROR(ROUND(AVERAGE(B36,E36),0),"") | I36: =IFERROR(ROUND(AVERAGE(C36,F36),0),"")
A37: Mittel | B37: =IFERROR(ROUND(AVERAGE(B6:B36),0),"") | C37: =IFERROR(ROUND(AVERAGE(C6:C36),0),"") | D37: =IFERROR(ROUND(AVERAGE(D6:D36),0),"") | E37: =IFERROR(ROUND(AVERAGE(E6:E36),0),"") | F37: =IFERROR(ROUND(AVERAGE(F6:F36),0),"") | G37: =IFERROR(ROUND(AVERAGE(G6:G36),0),"") | H37: =IFERROR(ROUND(AVERAGE(B6:B36,E6:E36),0),"") | I37: =IFERROR(ROUND(AVERAGE(C6:C36,F6:F36),0),"")

Sheet 11 November
A1: Blutdruck-Langzeitkurve - November
A2: Jahr: | D2: Je Tag genügt ein Wert - zwei Werte ergeben ein besseres Tagesmittel.
A4: Tag | B4: Morgens | E4: Abends | H4: Tagesmittel | J4: Bemerkung
B5: Sys | C5: Dia | D5: Puls | E5: Sys | F5: Dia | G5: Puls | H5: Sys | I5: Dia
A6: 1 | H6: =IFERROR(ROUND(AVERAGE(B6,E6),0),"") | I6: =IFERROR(ROUND(AVERAGE(C6,F6),0),"")
A7: 2 | H7: =IFERROR(ROUND(AVERAGE(B7,E7),0),"") | I7: =IFERROR(ROUND(AVERAGE(C7,F7),0),"")
A8: 3 | H8: =IFERROR(ROUND(AVERAGE(B8,E8),0),"") | I8: =IFERROR(ROUND(AVERAGE(C8,F8),0),"")
A9: 4 | H9: =IFERROR(ROUND(AVERAGE(B9,E9),0),"") | I9: =IFERROR(ROUND(AVERAGE(C9,F9),0),"")
A10: 5 | H10: =IFERROR(ROUND(AVERAGE(B10,E10),0),"") | I10: =IFERROR(ROUND(AVERAGE(C10,F10),0),"")
A11: 6 | H11: =IFERROR(ROUND(AVERAGE(B11,E11),0),"") | I11: =IFERROR(ROUND(AVERAGE(C11,F11),0),"")
A12: 7 | H12: =IFERROR(ROUND(AVERAGE(B12,E12),0),"") | I12: =IFERROR(ROUND(AVERAGE(C12,F12),0),"")
A13: 8 | H13: =IFERROR(ROUND(AVERAGE(B13,E13),0),"") | I13: =IFERROR(ROUND(AVERAGE(C13,F13),0),"")
A14: 9 | H14: =IFERROR(ROUND(AVERAGE(B14,E14),0),"") | I14: =IFERROR(ROUND(AVERAGE(C14,F14),0),"")
A15: 10 | H15: =IFERROR(ROUND(AVERAGE(B15,E15),0),"") | I15: =IFERROR(ROUND(AVERAGE(C15,F15),0),"")
A16: 11 | H16: =IFERROR(ROUND(AVERAGE(B16,E16),0),"") | I16: =IFERROR(ROUND(AVERAGE(C16,F16),0),"")
A17: 12 | H17: =IFERROR(ROUND(AVERAGE(B17,E17),0),"") | I17: =IFERROR(ROUND(AVERAGE(C17,F17),0),"")
... A36: 31 | H36: =IFERROR(ROUND(AVERAGE(B36,E36),0),"") | I36: =IFERROR(ROUND(AVERAGE(C36,F36),0),"")
A37: Mittel | B37: =IFERROR(ROUND(AVERAGE(B6:B36),0),"") | C37: =IFERROR(ROUND(AVERAGE(C6:C36),0),"") | D37: =IFERROR(ROUND(AVERAGE(D6:D36),0),"") | E37: =IFERROR(ROUND(AVERAGE(E6:E36),0),"") | F37: =IFERROR(ROUND(AVERAGE(F6:F36),0),"") | G37: =IFERROR(ROUND(AVERAGE(G6:G36),0),"") | H37: =IFERROR(ROUND(AVERAGE(B6:B36,E6:E36),0),"") | I37: =IFERROR(ROUND(AVERAGE(C6:C36,F6:F36),0),"")

Sheet 12 Dezember
A1: Blutdruck-Langzeitkurve - Dezember
A2: Jahr: | D2: Je Tag genügt ein Wert - zwei Werte ergeben ein besseres Tagesmittel.
A4: Tag | B4: Morgens | E4: Abends | H4: Tagesmittel | J4: Bemerkung
B5: Sys | C5: Dia | D5: Puls | E5: Sys | F5: Dia | G5: Puls | H5: Sys | I5: Dia
A6: 1 | H6: =IFERROR(ROUND(AVERAGE(B6,E6),0),"") | I6: =IFERROR(ROUND(AVERAGE(C6,F6),0),"")
A7: 2 | H7: =IFERROR(ROUND(AVERAGE(B7,E7),0),"") | I7: =IFERROR(ROUND(AVERAGE(C7,F7),0),"")
A8: 3 | H8: =IFERROR(ROUND(AVERAGE(B8,E8),0),"") | I8: =IFERROR(ROUND(AVERAGE(C8,F8),0),"")
A9: 4 | H9: =IFERROR(ROUND(AVERAGE(B9,E9),0),"") | I9: =IFERROR(ROUND(AVERAGE(C9,F9),0),"")
A10: 5 | H10: =IFERROR(ROUND(AVERAGE(B10,E10),0),"") | I10: =IFERROR(ROUND(AVERAGE(C10,F10),0),"")
A11: 6 | H11: =IFERROR(ROUND(AVERAGE(B11,E11),0),"") | I11: =IFERROR(ROUND(AVERAGE(C11,F11),0),"")
A12: 7 | H12: =IFERROR(ROUND(AVERAGE(B12,E12),0),"") | I12: =IFERROR(ROUND(AVERAGE(C12,F12),0),"")
A13: 8 | H13: =IFERROR(ROUND(AVERAGE(B13,E13),0),"") | I13: =IFERROR(ROUND(AVERAGE(C13,F13),0),"")
A14: 9 | H14: =IFERROR(ROUND(AVERAGE(B14,E14),0),"") | I14: =IFERROR(ROUND(AVERAGE(C14,F14),0),"")
A15: 10 | H15: =IFERROR(ROUND(AVERAGE(B15,E15),0),"") | I15: =IFERROR(ROUND(AVERAGE(C15,F15),0),"")
A16: 11 | H16: =IFERROR(ROUND(AVERAGE(B16,E16),0),"") | I16: =IFERROR(ROUND(AVERAGE(C16,F16),0),"")
A17: 12 | H17: =IFERROR(ROUND(AVERAGE(B17,E17),0),"") | I17: =IFERROR(ROUND(AVERAGE(C17,F17),0),"")
... A36: 31 | H36: =IFERROR(ROUND(AVERAGE(B36,E36),0),"") | I36: =IFERROR(ROUND(AVERAGE(C36,F36),0),"")
A37: Mittel | B37: =IFERROR(ROUND(AVERAGE(B6:B36),0),"") | C37: =IFERROR(ROUND(AVERAGE(C6:C36),0),"") | D37: =IFERROR(ROUND(AVERAGE(D6:D36),0),"") | E37: =IFERROR(ROUND(AVERAGE(E6:E36),0),"") | F37: =IFERROR(ROUND(AVERAGE(F6:F36),0),"") | G37: =IFERROR(ROUND(AVERAGE(G6:G36),0),"") | H37: =IFERROR(ROUND(AVERAGE(B6:B36,E6:E36),0),"") | I37: =IFERROR(ROUND(AVERAGE(C6:C36,F6:F36),0),"")
